BEGIN:VCALENDAR
VERSION:2.0
PRODID:-//wp-events-plugin.com//6.3//EN
TZID:Asia/Bangkok
X-WR-TIMEZONE:Asia/Bangkok
BEGIN:VEVENT
UID:61@sigmasolutions.co.th
DTSTART;TZID=Asia/Bangkok:20260430T100000
DTEND;TZID=Asia/Bangkok:20260430T113000
DTSTAMP:20260421T022425Z
URL:https://sigmasolutions.co.th/events-3/empoweringeducation/
SUMMARY:Empowering Education with Simulation Engineering on 3DEXPERIENCE (O
 nline webinar)
DESCRIPTION:\n\n&nbsp\;\n\n&nbsp\;\n\nก้าวสู่โลกแห
 ่งวิศวกรรมยุคใหม่กับสัมม
 นาออนไลน์ "Empowering Education with Simulation Engineer
 ing on 3DEXPERIENCE” เปิดประสบการณ์การ
 เรียนรู้ที่เชื่อมต่อระหว
 ่าง “การศึกษา” และ “การทำง
 านจริง” ได้อย่างลงตัว ครอบ
 คลุมตั้งแต่การออกแบบ 3D การ
 จำลองทางวิศวกรรม ไปจนถึงก
 ารจัดการข้อมูลบนแพลตฟอร์
 มเดียวแบบครบวงจร\n\nได้เรีย
 นรู้การเชื่อมโยงกระบวนกา
 รทำงานทางวิศวกรรมอย่างคร
 บวงจร ตั้งแต่การออกแบบด้ว
 ย CATIA\, การวิเคราะห์และจำลอง
 ด้วย Abaqus บนแพลตฟอร์ม 3DEXPERIENCE\, ไ
 ปจนถึงการจัดการข้อมูลด้ว
 ยเครื่องมือระดับอุตสาหกร
 รมที่ใช้งานจริงในสายงานว
 ิศวกรรม โดยสามารถนำองค์คว
 ามรู้เหล่านี้มาประยุกต์ใ
 ช้ในภาคการศึกษา เพื่อส่งเ
 สริมให้นักศึกษาได้เรียนร
 ู้และมีประสบการณ์เสมือนก
 ารทำงานในองค์กรชั้นนำ\n\n 	พ
 บกับแพลตฟอร์มการทำงานวิศ
 วกรรมที่สะดวกและเป็นระบบ
 มากยิ่งขึ้น\n 	ทำความรู้จัก 
 CATIA\, SIMULIA Abaqus\, ENOVIA on 3DEXPERIENCE\n 	ศึกษา Case st
 udy การออกแบบและการจำลอง\n 	อั
 พเดทเทคโนโลยีพร้อมต่อยอด
 สู่สายอาชีพด้านวิศวกรรม\n\nH
 ighlights:\n\n🔹 CATIA – Next-Level 3D Design\nออกแบบโ
 มเดล 3 มิติ บน 3DEXPERIENCE แพลตฟอร์
 ม\n🔹 SIMULIA – Advanced Simulation Powered by Abaqus\nจำลอ
 งพฤติกรรมเชิงโครงสร้าง คว
 ามร้อน และการไหลแบบครบวงจ
 ร รองรับงานวิเคราะห์ขั้นส
 ูง เช่น Dynamic\, Fatigue\, Composite และ Additive Manuf
 acturing\n🔹 ENOVIA – Smart Engineering Data Management\nจัดก
 ารข้อมูลวิศวกรรมอย่างมือ
 อาชีพ ควบคุมเวอร์ชัน เชื่อ
 มโยงทุกขั้นตอน และเพิ่มปร
 ะสิทธิภาพการทำงานเป็นทีม\n
 \nวันพฤหัสบดีที่ 30 เมษายน 2569\n
 เวลา 10.00 - 11.30 น.\n\nบรรยายในรูปแบ
 บ Online Webinar หลังจากลงทะเบียนแล
 ้ว ผู้ลงทะเบียนจะได้รับ Join l
 ink ผ่านอีเมลของท่าน เพื่อเข
 ้าสู่การอบรมผ่าน Microsoft Team\nไม่
 มีค่าใช้จ่าย\n\nผู้ที่เหมาะ
 จะเข้าร่วมสัมมนา\n- อาจารย์\
 , ครูผู้สอนด้านวิศวกรรมศาส
 ตร์ และ สาขาอื่น ๆ ที่เกี่ย
 วข้อง\n- ผู้บริหารสถาบันการ
 ศึกษาที่สนใจเครื่องมือวิ
 เคราะห์และจำลองด้านวิศวก
 รรมสำหรับการศึกษาโดยเฉพา
 ะ\n- นักวิจัยที่ต้องการเครื
 ่องมือจำลองขั้นสูงในโครง
 การวิจัย\n- นักศึกษาที่ต้อง
 การเรียนรู้ ทำความเข้าใจเ
 ครื่องมือวิเคราะห์และจำล
 องด้านวิศวกรรมระดับมืออา
 ชีพ\nสอบถามรายละเอียดเพิ่ม
 เติมได้ที่ โทร. 0-2862-1188\nwww.sigmasolutions.
 co.th\nwww.facebook.com/SigmaThailand\nLine ID: @sigmasolutions\n&nbsp\;\n
 \n
ATTACH;FMTTYPE=image/jpeg:https://sigmasolutions.co.th/wp-content/uploads/
 2025/06/Empowering-EDU.png
CATEGORIES:Event
END:VEVENT
BEGIN:VTIMEZONE
TZID:Asia/Bangkok
X-LIC-LOCATION:Asia/Bangkok
BEGIN:STANDARD
DTSTART:20250430T100000
TZOFFSETFROM:+0700
TZOFFSETTO:+0700
TZNAME:+07
END:STANDARD
END:VTIMEZONE
END:VCALENDAR