BEGIN:VCALENDAR
VERSION:2.0
PRODID:-//wp-events-plugin.com//6.3//EN
TZID:Asia/Bangkok
X-WR-TIMEZONE:Asia/Bangkok
BEGIN:VEVENT
UID:2@sigmasolutions.co.th
DTSTART;TZID=Asia/Bangkok:20261231T090000
DTEND;TZID=Asia/Bangkok:20261231T160000
DTSTAMP:20260311T033927Z
URL:https://sigmasolutions.co.th/events-3/catia-surface-intermediate/
SUMMARY:CATIA Surface Intermediate
DESCRIPTION:เป็นหลักสูตรต่อเนื่อง
 โดยเพิ่มความรู้ด้านการออ
 กแบบ Surface ที่มีความซับซ้อนม
 ากขึ้นในการสร้างและออกแบ
 บพื้นผิวขั้นสูง การสร้างพ
 ื้นผิวในสภาพองค์ประกอบที
 ่หลากหลาย
ATTACH;FMTTYPE=image/jpeg:https://sigmasolutions.co.th/wp-content/uploads/
 2022/11/CatiaV5_SurfaceDesignExpert.jpg
CATEGORIES:CATIA Training
END:VEVENT
BEGIN:VTIMEZONE
TZID:Asia/Bangkok
X-LIC-LOCATION:Asia/Bangkok
BEGIN:STANDARD
DTSTART:20251231T090000
TZOFFSETFROM:+0700
TZOFFSETTO:+0700
TZNAME:+07
END:STANDARD
END:VTIMEZONE
END:VCALENDAR