BEGIN:VCALENDAR
VERSION:2.0
PRODID:-//wp-events-plugin.com//6.3//EN
TZID:Asia/Bangkok
X-WR-TIMEZONE:Asia/Bangkok
BEGIN:VEVENT
UID:26@sigmasolutions.co.th
DTSTART;TZID=Asia/Bangkok:20260521T090000
DTEND;TZID=Asia/Bangkok:20260522T160000
DTSTAMP:20251111T043056Z
URL:https://sigmasolutions.co.th/events-3/catia-dmu-kinematics/
SUMMARY:CATIA DMU Kinematics
DESCRIPTION:หลักสูตรอบรมที่ออกแบบ
 มาสำหรับจำลองการประกอบขอ
 งชิ้นงานกลไกและวิเคราะห์
 การเกิดจลนศาสตร์
ATTACH;FMTTYPE=image/jpeg:https://sigmasolutions.co.th/wp-content/uploads/
 2023/02/CATIA_DMU_Kin.png
CATEGORIES:CATIA Training
END:VEVENT
BEGIN:VTIMEZONE
TZID:Asia/Bangkok
X-LIC-LOCATION:Asia/Bangkok
BEGIN:STANDARD
DTSTART:20250521T090000
TZOFFSETFROM:+0700
TZOFFSETTO:+0700
TZNAME:+07
END:STANDARD
END:VTIMEZONE
END:VCALENDAR